2.438400
0.000000
0.000000
-2.438400
640506.528537
8435994.505597
